BEGIN:VCALENDAR
PRODID:NingEventWidget-v1
VERSION:2.0
METHOD:PUBLISH
BEGIN:VTIMEZONE
TZID:America/New_York
X-LIC-LOCATION:America/New_York
BEGIN:DAYLIGHT
TZOFFSETFROM:-0500
TZOFFSETTO:-0400
TZNAME:EDT
DTSTART:19700308T020000
RRULE:FREQ=YEARLY;BYMONTH=3;BYDAY=2SU
END:DAYLIGHT
BEGIN:STANDARD
TZOFFSETFROM:-0400
TZOFFSETTO:-0500
TZNAME:EST
DTSTART:19701101T020000
RRULE:FREQ=YEARLY;BYMONTH=11;BYDAY=1SU
END:STANDARD
END:VTIMEZONE
BEGIN:VEVENT
UID:2758084:Event:130043
DTSTAMP:20260423T223615Z
SUMMARY:NORTHEAST REGION 2019 TEAM RELAY CHAMPIONSHIP
DESCRIPTION:BELOW YOU WILL FIND THE FULL EVENT DETAILS FOR THIS EVENT.
 \r\n\r\nFULL EVENT DETAILS\r\n\r\n\r\n\n\nFor more information visit h
 ttps://ubabowling2.ning.com/events/northeast-region-2019-team-relay-ch
 ampionship
DTSTART;TZID=America/New_York:20191124T090000
DTEND;TZID=America/New_York:20191124T150000
CATEGORIES:team, hdcp, "&amp", scr
LOCATION:LAUREL LANES
WEBSITE:
URL:
CONTACT:
ORGANIZER;CN="UBA ADMIN":https://ubabowling2.ning.com/profile/UBAADMIN
ATTACH;FMTTYPE="image/jpeg":https://storage.ning.com/topology/rest/1.0
 /file/get/3673195236?profile=original
ATTENDEE;ROLE=REQ-PARTICIPANT;PARTSTAT=ACCEPTED;RSVP=TRUE;CN="Virginia
  Holden":https://ubabowling2.ning.com/profile/VirginiaHolden
ATTENDEE;ROLE=REQ-PARTICIPANT;PARTSTAT=ACCEPTED;RSVP=TRUE;CN="UBA ADMI
 N":https://ubabowling2.ning.com/profile/UBAADMIN
ATTENDEE;ROLE=REQ-PARTICIPANT;PARTSTAT=ACCEPTED;RSVP=TRUE;CN="Cheryl M
 itchell aka M$LadyBo$$":https://ubabowling2.ning.com/profile/CherylMit
 chell
ATTENDEE;ROLE=REQ-PARTICIPANT;PARTSTAT=ACCEPTED;RSVP=TRUE;CN="Sal Scib
 ilia":https://ubabowling2.ning.com/profile/SalScibilia
ATTENDEE;ROLE=REQ-PARTICIPANT;PARTSTAT=ACCEPTED;RSVP=TRUE;CN="Mercedes
  Scipio":https://ubabowling2.ning.com/profile/MercedesScipio
ATTENDEE;ROLE=REQ-PARTICIPANT;PARTSTAT=ACCEPTED;RSVP=TRUE;CN="JOSEPH A
  BLANDING":https://ubabowling2.ning.com/profile/JOSEPHABLANDING
ATTENDEE;ROLE=REQ-PARTICIPANT;PARTSTAT=TENTATIVE;RSVP=TRUE;CN="Jason I
 zzi":https://ubabowling2.ning.com/profile/Izzibx300
ATTENDEE;ROLE=REQ-PARTICIPANT;PARTSTAT=TENTATIVE;RSVP=TRUE;CN="Thomas 
 J Risi":https://ubabowling2.ning.com/profile/ThomasJRisi
END:VEVENT
END:VCALENDAR
