BEGIN:VCALENDAR
PRODID:NingEventWidget-v1
VERSION:2.0
METHOD:PUBLISH
BEGIN:VTIMEZONE
TZID:America/New_York
X-LIC-LOCATION:America/New_York
BEGIN:DAYLIGHT
TZOFFSETFROM:-0500
TZOFFSETTO:-0400
TZNAME:EDT
DTSTART:19700308T020000
RRULE:FREQ=YEARLY;BYMONTH=3;BYDAY=2SU
END:DAYLIGHT
BEGIN:STANDARD
TZOFFSETFROM:-0400
TZOFFSETTO:-0500
TZNAME:EST
DTSTART:19701101T020000
RRULE:FREQ=YEARLY;BYMONTH=11;BYDAY=1SU
END:STANDARD
END:VTIMEZONE
BEGIN:VEVENT
UID:2758084:Event:94589
DTSTAMP:20260421T165016Z
SUMMARY:NORTHEAST REGION INDIVIDUAL RANKINGS QUALIFIER EVENTS
DESCRIPTION:Location 1: Sunday October 16th, AMF LAUREL LANES (15013 B
 altimore Ave, Laurel, MD 20707) \nLocation 2: Sunday October 30th, LI
 NDEN LANES (741 N Stiles St, Linden, NJ 07036)\n \nBOTH LOCATIONS WIL
 L HAVE A 2PM START TIME. CHECK-INS WILL BEGIN AT 1PM\n \nEach Ranking
  Division will have their own prize fund: Divisions will be:\nMen (3):
  Under 200, 200-220, above 220\nWomen (3): Under 180, 180-200, above 2
 00\n \nRules for Location 1: MDDCVA district\nFormat: 4 games scratch
  on same pair of lanes\nEntry fee: $60 per bowler. All entries MUST 
 be prepaid on the www.ubatv.tv website. Locate the UBA Prepayments Tab
  and click on UBA RANKING PAYMENTS and submit your $60 entry. Deadline
  date to prepay is Thursday Oct 13th 2016. Prepay tabs will be availab
 le Tues Sept 27th at 9am. All members who need a refund MUST email r
 efunds@undergroundbowling.com to inquire. Deadline date for refunds wi
 ll be Sat Oct 15th 2016. Walk-ins will be accepted at a $75 entry fee 
 if space permits(CASH ONLY!!!)\n \nMembers who are competing in the M
 DDCVA Team ranking qualifier event that is earlier in the day(10am) & 
 would like their 4 game set to count towards the indiv ranking qualifi
 er, MUST PAY $40 CASH(indiv. rank prize fund portion) to the treasure
 r on duty before the start of the team ranking. Members who are compet
 ing in the team ranking qualifier & pay the $40 optional MAY NOT wal
 k-in and pay for the 2pm Individual Ranking qualifier (All members hav
 e 1 chance)\n_______________________________________________\nRules fo
 r Location 2: Northeast Conference & DE-PA district\nFormat: 3 games s
 cratch on the same pair of lanes\nEntry fee: $50 per bowler. All entri
 es MUST be prepaid on the www.ubatv.tv website. Locate the UBA Prepa
 yments Tab and click on UBA RANKING PAYMENTS and submit your $50 entry
  through the NJ-DE-PA option. Deadline date to prepay is Thursday Oct 
 27th 2016. Prepay tabs will be available Tues Sept 27th at 9am. All 
 members who need a refund MUST email refunds@undergroundbowling.com 
 to inquire. Deadline date for refunds will be Sat Oct 29th 2016. Walk-
 ins will be accepted at a $75 entry fee if space permits(CASH ONLY!!!)
 \n \nMembers who are competing in the NJ NORTHWEST District Tour stop
  #4 (which takes place same time) & would like their 3 game scores to 
 count towards the indiv ranking qualifier,  MUST PAY $33 CASH(indiv r
 ank prize fund portion) to the treasurer on duty before the start of t
 he event\n \nFor location #2, all pots and brackets will be combined 
 between both events (Tour stop & Indiv rank qualifier)\n \nQualifiers
  will have a prize fund based on entries paying out 1:6. After the com
 pletion of the qualifiers, the ranking list will form. The Individual 
 Ranking Rules can be located on the www.ubatv.tv website under TEAM IN
 FORMATION & clicking on UBA RANKINGS\nANY QUESTIONS PLEASE EMAIL EVENT
 S@UNDERGROUNDBOWLING.COM\n\nFor more information visit https://ubabowl
 ing2.ning.com/events/northeast-region-individual-rankings-qualifier-ev
 ents
DTSTART;TZID=America/New_York:20161016T130000
DTEND;TZID=America/New_York:20161030T170000
CATEGORIES:singles, scratch, "(by", "divisions)"
LOCATION:2 DIFFERENT LOCATIONS
WEBSITE:
URL:
CONTACT:
ORGANIZER;CN="UBA ADMIN":https://ubabowling2.ning.com/profile/UBAADMIN
ATTACH;FMTTYPE="image/jpeg":
ATTENDEE;ROLE=REQ-PARTICIPANT;PARTSTAT=ACCEPTED;RSVP=TRUE;CN="Glenn Pa
 tterson":https://ubabowling2.ning.com/profile/GlennPatterson
ATTENDEE;ROLE=REQ-PARTICIPANT;PARTSTAT=ACCEPTED;RSVP=TRUE;CN="UBA ADMI
 N":https://ubabowling2.ning.com/profile/UBAADMIN
ATTENDEE;ROLE=REQ-PARTICIPANT;PARTSTAT=ACCEPTED;RSVP=TRUE;CN="Raul Ren
 teria":https://ubabowling2.ning.com/profile/RaulRenteria
ATTENDEE;ROLE=REQ-PARTICIPANT;PARTSTAT=ACCEPTED;RSVP=TRUE;CN="Marxcus 
 Fowler":https://ubabowling2.ning.com/profile/MarxcusFowler
ATTENDEE;ROLE=REQ-PARTICIPANT;PARTSTAT=ACCEPTED;RSVP=TRUE;CN="AARON J 
 WILLIAMS":https://ubabowling2.ning.com/profile/AaronWilliams731
ATTENDEE;ROLE=REQ-PARTICIPANT;PARTSTAT=ACCEPTED;RSVP=TRUE;CN="Cheryl M
 itchell aka M$LadyBo$$":https://ubabowling2.ning.com/profile/CherylMit
 chell
ATTENDEE;ROLE=REQ-PARTICIPANT;PARTSTAT=TENTATIVE;RSVP=TRUE;CN="Kristan
  S Clay":https://ubabowling2.ning.com/profile/KristanHarkey
ATTENDEE;ROLE=REQ-PARTICIPANT;PARTSTAT=TENTATIVE;RSVP=TRUE;CN="Melissa
  Hillman ":https://ubabowling2.ning.com/profile/MelissaHillman
ATTENDEE;ROLE=REQ-PARTICIPANT;PARTSTAT=TENTATIVE;RSVP=TRUE;CN="JOSEPH 
 A BLANDING":https://ubabowling2.ning.com/profile/JOSEPHABLANDING
END:VEVENT
END:VCALENDAR
