BEGIN:VCALENDAR
PRODID:NingEventWidget-v1
VERSION:2.0
METHOD:PUBLISH
BEGIN:VTIMEZONE
TZID:America/New_York
X-LIC-LOCATION:America/New_York
BEGIN:DAYLIGHT
TZOFFSETFROM:-0500
TZOFFSETTO:-0400
TZNAME:EDT
DTSTART:19700308T020000
RRULE:FREQ=YEARLY;BYMONTH=3;BYDAY=2SU
END:DAYLIGHT
BEGIN:STANDARD
TZOFFSETFROM:-0400
TZOFFSETTO:-0500
TZNAME:EST
DTSTART:19701101T020000
RRULE:FREQ=YEARLY;BYMONTH=11;BYDAY=1SU
END:STANDARD
END:VTIMEZONE
BEGIN:VEVENT
UID:2758084:Event:129335
DTSTAMP:20260422T095818Z
SUMMARY:SOUTHEAST UNHOLY ALLIANCE MIXED HANDICAP TRIPLES EVENT -MYRTLE
  BEACH LOCATION (2019)
DESCRIPTION:THE UNDERGROUND BOWLING ASSOCIATION PRESENTS: \r\nTHE SOUT
 HEAST REGION UNHOLY ALLIANCE MIXED TRIPLES EVENT (2019)\r\nDates: Frid
 ay October 18th â€“ Sunday October 20th 2019 (7 squad event)\r\nTEAMS 
 MUST CONSIST OF ANY 3 MEMBERS FROM 3 DIFFERENT UBA TEAMS & HAVE AT LEA
 ST 1 MALE & 1 FEMALE BOWLER.\r\nÂ \r\nTHERE WILL BEÂ 7Â AVAILABLE SQUA
 DS TO CHOOSE FROM (30 team max in each).\r\nÂ \r\nSQUAD 1...FRIDAY, OC
 TOBER 18, 2019....4PM START TIME (3PM starts check-in)\r\nSQUAD 2...FR
 IDAY, OCTOBER 18, 2019.....9PM START TIME (8PM starts check-in)\r\nSQU
 AD 3...SATURDAY, OCTOBER 19, 2019....9AM START TIME (8AM starts check-
 in)\r\nSQUAD 4...SATURDAY, OCTOBER 19, 2019....2PM START TIME (1PM sta
 rts check-in)\r\nSQUAD 5...SATURDAY, OCTOBER 19, 2019....7PM START TIM
 E (6PM starts check-in)\r\nSQUAD 6...SUNDAY, OCTOBER 20, 2019â€¦9AM ST
 ART TIME (8AM starts check-in)\r\nSQUAD 7...SUNDAY, OCTOBER 20, 2019â€
 ¦2PM START TIME (1PM starts check-in)Â \r\n\r\nClick here for event ro
 ster >>>>Â EVENT ROSTER\r\nÂ \r\nClick here for waiting list >>>>Â WAI
 TING LIST\r\nÂ \r\n***Â PREPAY TAB GOES LIVEÂ ONÂ TUESDAY, SEPTEMBER 1
 0, 2019 @ 6:00pm.\r\n***Â FIRST COME / FIRST SERVED BASIS WILL BE USED
 .\r\nÂ \r\nÂ  Â  Â  Â  ****NEW PREPAY RULE****\r\nA $180 PAY IN FULL P
 AYMENT IS REQUIRED BY VISITING THE UBA WEBSITE (WWW.UBATV.TV), LOCATIN
 G THE SE UNHOLY ALLIANCE PREPAY TAB, FIND YOUR SQUAD CHOICE IN THE DRO
 P MENU, & SUBMIT YOUR $180 PAYMENT.\r\nÂ \r\nBOWLERS ARE PERMITTED TO 
 ENTER 2 SQUADS ONLY!!!!. ANY MEMBER WHO COMPETES IN TWO SQUADS MAY CAS
 H TWICE AS LONG AS BOTH TEAMS HAVE AT LEAST 1 MEMBER CHANGED.\r\nÂ Â \
 r\nFORMAT:\r\n- 5 GAMES PER PERSON/TEAM ON SAME PAIR\r\n-HIGHEST TOTAL
  PINFALL (+HDCP) COMBINING ALL SQUADS WILL DETERMINE FINAL STANDINGS.\
 r\n-HDCP BASE 70% OF 250\r\nÂ \r\nSCRATCH & HDCP POTS & BRACKETS WILL 
 BE AVAILABLE FOR EACH SQUAD.\r\nÂ \r\nFOR COMPLETE EVENT DETAILS, PLEA
 SE CLICK LINK BELOW:\r\nFULL EVENT DETAILS\r\n\r\nFOR ALL QUESTIONS & 
 CONCERNS PLEASE EMAIL THE UBA atÂ EVENTS@UNDERGROUNDBOWLING.COM.\n\nFo
 r more information visit https://ubabowling2.ning.com/events/southeast
 -unholy-alliance-mixed-handicap-triples-event-2019
DTSTART;TZID=America/New_York:20191018T150000
DTEND;TZID=America/New_York:20191020T190000
CATEGORIES:mixed, triples, handicap
LOCATION:MYRTLE BEACH BOWL
WEBSITE:
URL:
CONTACT:
ORGANIZER;CN="UBA ADMIN":https://ubabowling2.ning.com/profile/UBAADMIN
ATTACH;FMTTYPE="image/jpeg":
ATTENDEE;ROLE=REQ-PARTICIPANT;PARTSTAT=ACCEPTED;RSVP=TRUE;CN="Troy gra
 nt":https://ubabowling2.ning.com/profile/TroyGrant
ATTENDEE;ROLE=REQ-PARTICIPANT;PARTSTAT=ACCEPTED;RSVP=TRUE;CN="SARAH L 
 BOOTHE":https://ubabowling2.ning.com/profile/SARAHLBOOTHE
ATTENDEE;ROLE=REQ-PARTICIPANT;PARTSTAT=ACCEPTED;RSVP=TRUE;CN="Joshua H
 ollister":https://ubabowling2.ning.com/profile/JoshuaHollister
ATTENDEE;ROLE=REQ-PARTICIPANT;PARTSTAT=ACCEPTED;RSVP=TRUE;CN="Ray \"Sm
 ash\" Gillespie":https://ubabowling2.ning.com/profile/RaySmashGillespi
 e
ATTENDEE;ROLE=REQ-PARTICIPANT;PARTSTAT=ACCEPTED;RSVP=TRUE;CN="Sagirah 
 Wheeler":https://ubabowling2.ning.com/profile/Tha_Rachet_One
ATTENDEE;ROLE=REQ-PARTICIPANT;PARTSTAT=ACCEPTED;RSVP=TRUE;CN="UBA ADMI
 N":https://ubabowling2.ning.com/profile/UBAADMIN
ATTENDEE;ROLE=REQ-PARTICIPANT;PARTSTAT=ACCEPTED;RSVP=TRUE;CN="BRUCE T.
  DUNLAP Jr.":https://ubabowling2.ning.com/profile/BRUCETDUNLAP
ATTENDEE;ROLE=REQ-PARTICIPANT;PARTSTAT=ACCEPTED;RSVP=TRUE;CN="Dawon Ne
 wsome":https://ubabowling2.ning.com/profile/DawonNewsome
ATTENDEE;ROLE=REQ-PARTICIPANT;PARTSTAT=ACCEPTED;RSVP=TRUE;CN="Shelly M
 iller":https://ubabowling2.ning.com/profile/ShellyMiller
ATTENDEE;ROLE=REQ-PARTICIPANT;PARTSTAT=ACCEPTED;RSVP=TRUE;CN="Theresa 
 Weems":https://ubabowling2.ning.com/profile/TheresaWeems
ATTENDEE;ROLE=REQ-PARTICIPANT;PARTSTAT=TENTATIVE;RSVP=TRUE;CN="Samuel 
 Chance":https://ubabowling2.ning.com/profile/SamuelEChanceJr
END:VEVENT
END:VCALENDAR
